BEGIN:VCALENDAR
VERSION:2.0
PRODID:-//Deutsch-Finnische Gesellschaft NRW e.V. - ECPv6.15.15//NONSGML v1.0//EN
CALSCALE:GREGORIAN
METHOD:PUBLISH
X-ORIGINAL-URL:https://dfgnrw.de
X-WR-CALDESC:Veranstaltungen für Deutsch-Finnische Gesellschaft NRW e.V.
REFRESH-INTERVAL;VALUE=DURATION:PT1H
X-Robots-Tag:noindex
X-PUBLISHED-TTL:PT1H
BEGIN:VTIMEZONE
TZID:Europe/Berlin
BEGIN:DAYLIGHT
TZOFFSETFROM:+0100
TZOFFSETTO:+0200
TZNAME:CEST
DTSTART:20240331T010000
END:DAYLIGHT
BEGIN:STANDARD
TZOFFSETFROM:+0200
TZOFFSETTO:+0100
TZNAME:CET
DTSTART:20241027T010000
END:STANDARD
BEGIN:DAYLIGHT
TZOFFSETFROM:+0100
TZOFFSETTO:+0200
TZNAME:CEST
DTSTART:20250330T010000
END:DAYLIGHT
BEGIN:STANDARD
TZOFFSETFROM:+0200
TZOFFSETTO:+0100
TZNAME:CET
DTSTART:20251026T010000
END:STANDARD
BEGIN:DAYLIGHT
TZOFFSETFROM:+0100
TZOFFSETTO:+0200
TZNAME:CEST
DTSTART:20260329T010000
END:DAYLIGHT
BEGIN:STANDARD
TZOFFSETFROM:+0200
TZOFFSETTO:+0100
TZNAME:CET
DTSTART:20261025T010000
END:STANDARD
END:VTIMEZONE
BEGIN:VEVENT
DTSTART;TZID=Europe/Berlin:20251025T100000
DTEND;TZID=Europe/Berlin:20251025T140000
DTSTAMP:20260423T105557
CREATED:20250425T175607Z
LAST-MODIFIED:20251024T091703Z
UID:6516-1761386400-1761400800@dfgnrw.de
SUMMARY:Landesdelegiertenversammlung der DFG NRW
DESCRIPTION:Am 25. Oktober 2025 findet die DFG NRW Landesdelegiertenversammlung in Castrop-Rauxel statt. U.a. Berichterstattung der vergangenen 3 Jahre\, Planung der nächsten 3 Jahre und Wahl des Vorstandes für die nächste 3-Jahresperiode. \n \nEinladung\nzur Landesdelegiertenkonferenz der DFG NRW e.V.\nam Samstag\, den 25. Oktober 2025 von 10.00 bis ca. 16.00 Uhr \nDie Landesdelegiertenkonferenz findet statt im\nDienstleistungszentrum (DIEZE)\, Erinstraße 6\, 44575 Castrop-Rauxel\nHiermit wird herzlich zu unserer Landesdelegiertenkonferenz eingeladen.\nMitglieder ohne Stimmrecht können ebenfalls gerne an der Konferenz teilnehmen. \nTagesordnung:\n1. Wahl des Versammlungsleiters\n2. Feststellung der Anwesenheits- und Stimmliste\n3. Genehmigung der Tagesordnung\n4. Bericht des Vorstands über die abgelaufenen Geschäftsjahre\n5. Bericht der Finanzrevisoren\n6. Entlastung des Vorstands\n7. Wahl des Vorstands und der Revisoren\n8. Wahl der Delegierten zur Bundeshauptversammlung in Hannover 16.05.-17.05.2026\nDer Vorstand (Vorsitzender und zwei Stellvertreter) ist Kraft Amtes delegiert\n9. Behandlung vorliegender Anträge\n10. Behandlung und Beschluss der bearbeiteten Satzung der DFG NRW e.V.\n11. Beschluss des nächsten Tagungsortes der Delegiertenkonferenz 2028 \nWir freuen uns auf Eure Teilnahme und bitten um Anmeldung bis spätesten 27.09. 2025\nper Mail an elfi.heua@dfgnrw.de\, oder per Post Heinrichstr. 52\, 59192 Bergkamen\nAnmerkung: Parkplätze am Dienstleistungszentrum vorhanden; Verkehrsmittel Bus\nZielhaltestelle Castrop Münsterplatz; DB Castrop-Rauxel Süd\, ca. 1\,5 km Fußweg\nMit freundlichen Grüßen\ngez. der Vorstand
URL:https://dfgnrw.de/event/landesdelegiertenversammlung-der-dfg-nrw/
LOCATION:Dienstleistungszentrum (DIEZE)\, Erinstr. 6\, Castrop-Rauxel\, 44575\, Deutschland
CATEGORIES:AC,ART,Bezirksgruppe Aachen,Bezirksgruppe Bergisches Land,Bezirksgruppe Bochum-Witten,Bezirksgruppe Castrop-Rauxel,Bezirksgruppe Essen,Bezirksgruppe Hagen-Siegen,Bezirksgruppe Hochsauerland,Bezirksgruppe Leverkusen,Bezirksgruppe Recklinghausen-Dorsten,BGL,BN,BO,CAS,D,DFG Bonn,DFG Düsseldorf,DFG Münster e.V.,E,GRUPPEN,HA,HSK,Landesverein,LEV,LV,MS,RE,Versammlung
END:VEVENT
BEGIN:VEVENT
DTSTART;TZID=Europe/Berlin:20251026T100000
DTEND;TZID=Europe/Berlin:20251026T100000
DTSTAMP:20260423T105557
CREATED:20190715T121138Z
LAST-MODIFIED:20190715T121138Z
UID:6537-1761472800-1761472800@dfgnrw.de
SUMMARY:Nordic Walking -  Lauftreff
DESCRIPTION:Die Nordic Walking Gruppe der Deutsch-Finnischen-Gesellschaft Castrop-Rauxel \nstartet jeden Sonntag um 10 Uhr (mit maximal 10 Personen) an der Grutholzallee 21\, 44577 Castrop-Rauxel (Höhe Cafe Del Sol). \nWir laufen ca. 1 Stunde. Zwei Läufer oder Läuferinnen könnten bei uns noch einsteigen. Kosten entstehen nicht. Jeder sollte eigene Stöcke mitbringen. \nAb dem 24.10.2021 (Sonntag) bieten wir eine zweite Nordic Walkinggruppe an: Die „Elchrunde“ läuft ca.7 km und die „Bärenrunde“ läuft ca. 4 km. Zum Schluss treffen wir uns alle zu den Dehnübungen. \nNähere Auskünfte erteilt Peter G. Schäfer unter Tel. 02305 21463  \noder E-Mail: peter.g.schaefer@web.de \nFoto: Volkmar Klimt
URL:https://dfgnrw.de/event/lauftreff-castrop-rauxel/2025-10-26/
LOCATION:Parkplatz Ev. Krankenhaus\, Grutholzallee 21\, Castrop-Rauxel\, NRW\, 44577\, Deutschland
CATEGORIES:ART,Bezirksgruppe Castrop-Rauxel,CAS,GRUPPEN,Sport
ORGANIZER;CN="Bezirksgruppe Castrop-Rauxel":MAILTO:castrop-rauxel@dfgnrw.de
GEO:51.5674644;7.3192114
X-APPLE-STRUCTURED-LOCATION;VALUE=URI;X-ADDRESS=Parkplatz Ev. Krankenhaus Grutholzallee 21 Castrop-Rauxel NRW 44577 Deutschland;X-APPLE-RADIUS=500;X-TITLE=Grutholzallee 21:geo:7.3192114,51.5674644
END:VEVENT
END:VCALENDAR